BEGIN:VCALENDAR
VERSION:2.0
PRODID:-//Agency Performance Partners - ECPv6.15.20//NONSGML v1.0//EN
CALSCALE:GREGORIAN
METHOD:PUBLISH
X-ORIGINAL-URL:https://www.agencyperformancepartners.com
X-WR-CALDESC:Events for Agency Performance Partners
REFRESH-INTERVAL;VALUE=DURATION:PT1H
X-Robots-Tag:noindex
X-PUBLISHED-TTL:PT1H
BEGIN:VTIMEZONE
TZID:UTC
BEGIN:STANDARD
TZOFFSETFROM:+0000
TZOFFSETTO:+0000
TZNAME:UTC
DTSTART:20190101T000000
END:STANDARD
END:VTIMEZONE
BEGIN:VEVENT
DTSTART;VALUE=DATE:20200917
DTEND;VALUE=DATE:20200918
DTSTAMP:20260422T062113
CREATED:20200203T020932Z
LAST-MODIFIED:20201215T084537Z
UID:8618-1600300800-1600387199@www.agencyperformancepartners.com
SUMMARY:APP is headed to the Grinnell Commercial Academy Fall Session
DESCRIPTION:Kelly is headed to Grinnell\, IA to provide training at the Grinnell Commercial Academy on September 17\, 2020.  As a long time partner with Grinnell Mutual\, it is always a pleasure to bring our sales training to this bright group of students.  Tis is a private event for Grinnell Mutual agencies.  Please contact your Grinnell Mutual representative.  This event is invite only.
URL:https://www.agencyperformancepartners.com/event/app-is-headed-to-the-grinnell-commercial-academy-2/
ATTACH;FMTTYPE=image/jpeg:https://www.agencyperformancepartners.com/wp-content/uploads/2020/02/Grinnell-September-2020-Blog.jpg
END:VEVENT
BEGIN:VEVENT
DTSTART;TZID=UTC:20200921T133000
DTEND;TZID=UTC:20200922T133000
DTSTAMP:20260422T062113
CREATED:20200423T191618Z
LAST-MODIFIED:20201215T084306Z
UID:8515-1600695000-1600781400@www.agencyperformancepartners.com
SUMMARY:Kelly is headed to the Secura Academy in Wisconsin!
DESCRIPTION:Agency Performance Partners is excited to announce that Kelly will be headed to Neenah\, WI September 21 – 22\, 2020 to speak at the Secura Academy.  She will be presenting on the topics of Setting Goals and Time Management as well as Prospecting and Branding.
URL:https://www.agencyperformancepartners.com/event/kelly-is-headed-to-the-secura-academy-in-wisconsin/
LOCATION:Secura Academy
ATTACH;FMTTYPE=image/jpeg:https://www.agencyperformancepartners.com/wp-content/uploads/2020/04/Secura-Speaking-Event.jpg
END:VEVENT
END:VCALENDAR